BEGIN:VCALENDAR
VERSION:2.0
PRODID:-//TRIOWIND - ECPv6.15.18//NONSGML v1.0//EN
CALSCALE:GREGORIAN
METHOD:PUBLISH
X-ORIGINAL-URL:https://triowind.de
X-WR-CALDESC:Events for TRIOWIND
REFRESH-INTERVAL;VALUE=DURATION:PT1H
X-Robots-Tag:noindex
X-PUBLISHED-TTL:PT1H
BEGIN:VTIMEZONE
TZID:Europe/Berlin
BEGIN:DAYLIGHT
TZOFFSETFROM:+0100
TZOFFSETTO:+0200
TZNAME:CEST
DTSTART:20250330T010000
END:DAYLIGHT
BEGIN:STANDARD
TZOFFSETFROM:+0200
TZOFFSETTO:+0100
TZNAME:CET
DTSTART:20251026T010000
END:STANDARD
BEGIN:DAYLIGHT
TZOFFSETFROM:+0100
TZOFFSETTO:+0200
TZNAME:CEST
DTSTART:20260329T010000
END:DAYLIGHT
BEGIN:STANDARD
TZOFFSETFROM:+0200
TZOFFSETTO:+0100
TZNAME:CET
DTSTART:20261025T010000
END:STANDARD
BEGIN:DAYLIGHT
TZOFFSETFROM:+0100
TZOFFSETTO:+0200
TZNAME:CEST
DTSTART:20270328T010000
END:DAYLIGHT
BEGIN:STANDARD
TZOFFSETFROM:+0200
TZOFFSETTO:+0100
TZNAME:CET
DTSTART:20271031T010000
END:STANDARD
END:VTIMEZONE
BEGIN:VEVENT
DTSTART;TZID=Europe/Berlin:20260302T080000
DTEND;TZID=Europe/Berlin:20260302T170000
DTSTAMP:20260421T202240
CREATED:20260216T091650Z
LAST-MODIFIED:20260223T170802Z
UID:10000056-1772438400-1772470800@triowind.de
SUMMARY:GWO Basic Safety Training First Aid (GWO BST FA)  // GWO Basic Safety Training Refresher First Aid (GWO BSTR FA)
DESCRIPTION:Course Content\nDuration: 1 day \nCourse Content: \n\nLegal fundamentals\nRisks and hazards\nAnatomy\nLife-saving immediate measures\nCardiopulmonary resuscitation (CPR) / Automated External Defibrillator (AED)\nWound care\nPractical exercises\n\nTarget Group\, Duration & Costs\nTarget Group \nEmployees from the wind energy industry who work on wind turbines onshore and offshore. \nDuration and Costs \n\nDuration: 1 day\nPrice: €1\,950 plus additional expenses / full in-house course\n€320 / individual participant (open course)\n\nCancellation Fees \nFor cancellations made up to 7 days before the scheduled training date\, we charge 50% of the course fee. For cancellations made up to 2 days before the scheduled training date\, the full price will be charged. \nUpcoming Dates\n\nFebruary 2\, 2026 – Rendsburg – Register\nMarch 2\, 2026 – Rendsburg – Register\nApril 10\, 2026 – Rendsburg – Register\nMay 4\, 2026 – Rendsburg – Register
URL:https://triowind.de/schulungen/gwo-basic-safety-training-first-aid-gwo-bst-fa-gwo-basic-safety-training-refresher-first-aid-gwo-bstr-fa-2/
LOCATION:Triowind Rendsburg
END:VEVENT
END:VCALENDAR