BEGIN:VCALENDAR
VERSION:2.0
PRODID:-//TRIOWIND - ECPv6.15.18//NONSGML v1.0//EN
CALSCALE:GREGORIAN
METHOD:PUBLISH
X-WR-CALNAME:TRIOWIND
X-ORIGINAL-URL:https://triowind.de
X-WR-CALDESC:Events for TRIOWIND
REFRESH-INTERVAL;VALUE=DURATION:PT1H
X-Robots-Tag:noindex
X-PUBLISHED-TTL:PT1H
BEGIN:VTIMEZONE
TZID:Europe/Berlin
BEGIN:DAYLIGHT
TZOFFSETFROM:+0100
TZOFFSETTO:+0200
TZNAME:CEST
DTSTART:20250330T010000
END:DAYLIGHT
BEGIN:STANDARD
TZOFFSETFROM:+0200
TZOFFSETTO:+0100
TZNAME:CET
DTSTART:20251026T010000
END:STANDARD
BEGIN:DAYLIGHT
TZOFFSETFROM:+0100
TZOFFSETTO:+0200
TZNAME:CEST
DTSTART:20260329T010000
END:DAYLIGHT
BEGIN:STANDARD
TZOFFSETFROM:+0200
TZOFFSETTO:+0100
TZNAME:CET
DTSTART:20261025T010000
END:STANDARD
BEGIN:DAYLIGHT
TZOFFSETFROM:+0100
TZOFFSETTO:+0200
TZNAME:CEST
DTSTART:20270328T010000
END:DAYLIGHT
BEGIN:STANDARD
TZOFFSETFROM:+0200
TZOFFSETTO:+0100
TZNAME:CET
DTSTART:20271031T010000
END:STANDARD
END:VTIMEZONE
BEGIN:VEVENT
DTSTART;TZID=Europe/Berlin:20260303T080000
DTEND;TZID=Europe/Berlin:20260303T170000
DTSTAMP:20260423T133817
CREATED:20260216T084917Z
LAST-MODIFIED:20260223T170200Z
UID:10000045-1772524800-1772557200@triowind.de
SUMMARY:GWO Basic Safety Training Refresher Working at Heights (GWO BSTR W@H)
DESCRIPTION:GWO Basic Safety Training Refresher Working at Heights (GWO BSTR W@H) Course Content\n\n(Duration: 1 day\, 2 instructors) \nCourse Content: \n\nLegal fundamentals (brief overview)\nPersonal protective equipment (PPE) – general\n\nHelmet\nGloves\nRespiratory protection\nHearing protection\netc.\n\n\nPersonal fall protection equipment (PFPE)\n\nIndividual components and their intended use\n\nFull-body harness\nShock absorber\nLanyard\nConnecting elements\nGuided type fall arrester with fixed line\nGuided type fall arrester with flexible line\n\n\n\n\nFall-hazard areas\nSelection of suitable anchorage points\nBehavior in case of fire\nGeneral rules for behavior in “wind and weather”\nWork requiring special authorization\nPermit-to-work procedures\nGeneral principles for working in electrical areas\n\nAuthorizations\nBasic rules\n\n\nRedundancy during exercises\nAccident case studies\n\nPractical Exercises: \n\nRescue from a ladder\nSelf-rescue from a hatch\n\n\nTarget Group\, Duration & Costs\nTarget Group \nEmployees who are involved in work on wind turbines (WT) and who have already completed the GWO basic safety training “Working at Heights.” \nDuration and Costs \n\nDuration: 1 day\nPrice: €2\,650 plus additional expenses / full course\n€450 / individual participant (open course)\nCurrently\, no catering is provided by Triowind\n\nCancellation Fees \nFor cancellations made up to 7 days before the scheduled training date\, we charge 50% of the course fee. For cancellations made up to 2 days before the scheduled training date\, the full price will be charged. \n\nUpcoming Dates\nSafety Briefing according to GWO Standard and DGUV-R 112-198/199 (Personal Fall Protection Equipment) \nAfter registration\, you will be informed in good time of all necessary details\, such as the location\, directions\, and further organizational information\, without the need for a separate request. \n\nFebruary 4\, 2026 – Rendsburg – Register\nMarch 3\, 2026 – Rendsburg – Register\nApril 8\, 2026 – Rendsburg – Register\nMay 6\, 2026 – Rendsburg – Register\n\n\nAfter registration\, you will be informed in good time of all necessary details\, such as the location\, directions\, and further organizational information\, without the need for a separate request.
URL:https://triowind.de/schulungen/gwo-basic-safety-training-refresher-working-at-heights-gwo-bstr-wh/
CATEGORIES:Occupational Safety
END:VEVENT
BEGIN:VEVENT
DTSTART;TZID=Europe/Berlin:20260303T080000
DTEND;TZID=Europe/Berlin:20260303T170000
DTSTAMP:20260423T133817
CREATED:20260216T083803Z
LAST-MODIFIED:20260223T165704Z
UID:10000040-1772524800-1772557200@triowind.de
SUMMARY:WEA Working at Heights Refresher (1 Trainer) – DGUV-R 112-198/199
DESCRIPTION:Safety Briefing according to DGUV-R 112-198/199 and VDSI (Personal Fall Protection Equipment)Course Content\n\nRescue Training Refresher – Course Content (1 Instructor) \n\nTheoretical Part (approx. 3 hours): \n\nLegal fundamentals\nPersonal protective equipment (PPE)\n\nGeneral PPE\nHelmet\, safety footwear\, gloves\, etc.\n\n\nPersonal fall protection equipment\n\nFull-body harness\nShock absorbers (function\, fall forces with/without shock absorber)\nLanyards\nGuided type fall arresters on fixed and flexible lines\nLadder and fall-protection systems: design and function\nCarabiners\nInspection\, cleaning\, and maintenance of PPE\nCriteria for removal from service of harnesses\, ropes\, and helmets\n\n\nSafe working in and on a wind turbine (WT)\nProper use of PPE\nSafe behavior depending on the work location\n\nWork inside the tower\nWork inside the nacelle\nWork on the roof of the nacelle\nWork in a man basket\n\n\nBehavior in exceptional weather conditions\n\nBehavior after accidents\nFirst aid\nSuspension trauma\nCountermeasures\nAccident scenarios\nAccident statistics\nAccident case studies\n\n\nWind Turbine Emergency Information System (WT-NIS)\n\n\nPractical Part (approx. 5 hours): \nPre-briefing \n\nTravel to the wind turbine and general rules of conduct in the wind farm\nReview: correct donning of the full-body harness and PPE\n\nRescue exercises: \n\n\nRescue from a ladder \n\n\nFinal Debriefing: \n\nParticipants’ questions\nA few practical tips and recommendations\n\n\nTarget Group\, Duration & Costs\nTarget Group \nEmployees who are involved in work on wind turbines (WT) and who have already completed the initial safety training for working in and on wind turbines. \nDuration and Costs \n\nDuration: 1 day\nPrice: €1\,950 / full course\n€340 / individual participant (open course)\nCurrently\, no catering is provided by Triowind\n\nCancellation Fees \nFor cancellations made up to 7 days before the scheduled training date\, we charge 50% of the course fee. For cancellations made up to 2 days before the scheduled training date\, the full price will be charged. \nUpcoming Dates\nSafety Briefing according to DGUV-R 112-198/199 and VDSI (Personal Fall Protection Equipment) \nAfter registration\, you will be informed in good time of all necessary details\, such as the location\, directions\, and further organizational information\, without the need for a separate request. \n\nFebruary 4\, 2026 – Rendsburg – Register\nMarch 3\, 2026 – Rendsburg – Register\nApril 8\, 2026 – Rendsburg – Register\nMay 6\, 2026 – Rendsburg – Register\n\n\n\nAfter registration\, you will be informed in good time of all necessary details\, such as the location\, directions\, and further organizational information\, without the need for a separate request.
URL:https://triowind.de/schulungen/wea-working-at-heights-refresher-1-trainer-dguv-r-112-198-199-2/
CATEGORIES:Occupational Safety
END:VEVENT
BEGIN:VEVENT
DTSTART;TZID=Europe/Berlin:20260302T080000
DTEND;TZID=Europe/Berlin:20260302T170000
DTSTAMP:20260423T133817
CREATED:20260216T091650Z
LAST-MODIFIED:20260223T170802Z
UID:10000056-1772438400-1772470800@triowind.de
SUMMARY:GWO Basic Safety Training First Aid (GWO BST FA)  // GWO Basic Safety Training Refresher First Aid (GWO BSTR FA)
DESCRIPTION:Course Content\nDuration: 1 day \nCourse Content: \n\nLegal fundamentals\nRisks and hazards\nAnatomy\nLife-saving immediate measures\nCardiopulmonary resuscitation (CPR) / Automated External Defibrillator (AED)\nWound care\nPractical exercises\n\nTarget Group\, Duration & Costs\nTarget Group \nEmployees from the wind energy industry who work on wind turbines onshore and offshore. \nDuration and Costs \n\nDuration: 1 day\nPrice: €1\,950 plus additional expenses / full in-house course\n€320 / individual participant (open course)\n\nCancellation Fees \nFor cancellations made up to 7 days before the scheduled training date\, we charge 50% of the course fee. For cancellations made up to 2 days before the scheduled training date\, the full price will be charged. \nUpcoming Dates\n\nFebruary 2\, 2026 – Rendsburg – Register\nMarch 2\, 2026 – Rendsburg – Register\nApril 10\, 2026 – Rendsburg – Register\nMay 4\, 2026 – Rendsburg – Register
URL:https://triowind.de/schulungen/gwo-basic-safety-training-first-aid-gwo-bst-fa-gwo-basic-safety-training-refresher-first-aid-gwo-bstr-fa-2/
LOCATION:Triowind Rendsburg
END:VEVENT
END:VCALENDAR